BEGIN:VCALENDAR
VERSION:2.0
PRODID:-//hacksw/handcal//NONSGML v1.0//EN
CALSCALE:GREGORIAN
BEGIN:VEVENT
DTSTART:20251115T130000
DTEND:20251115T153000
UID:Aaron Williamson | Performance and In Conversation Event15/11/2025 13:00-15/11/2025 15:30
DESCRIPTION:Aaron Williamson presents a new performance work, after which he will be in conversation with Larry Lynch, Professor of Performance Writing at The University of Southampton's Winchester School of Art. The performance and the conversation both draw extensively on Williamson's current exhibition - Outlandish - at the John Harvard Gallery, whilst referring out to his wider practice and thinking as a socio-political critique of contemporary framings of disability.
URL: https://www.southamptonartshumfest.co.uk/
SUMMARY:Aaron Williamson | Performance and In Conversation Event
END:VEVENT
END:VCALENDAR