BEGIN:VCALENDAR
VERSION:2.0
PRODID:-//hacksw/handcal//NONSGML v1.0//EN
CALSCALE:GREGORIAN
BEGIN:VEVENT
DTSTART:20251110T100000
DTEND:20251110T120000
UID:In-Residence and Green Social Prescribing Toolkit | Launch event10/11/2025 10:00-10/11/2025 12:00
DESCRIPTION:Join this collaborative event celebrating the fifth year of In-Residence: an innovative partnership programme between Southampton Voluntary Services and the Public Engagement with Research Unit.

The event will launch the next phase of In-Residence, the Green Social Prescribing Toolkit Publication, culminating in a Health and Wellbeing Community Hub gathering. 

The gathering will provide friends with an opportunity to explore health and wellbeing through green-related creative practice.

This event is suitable for ages 16+. Refreshments provided.
URL: https://www.southamptonartshumfest.co.uk/
SUMMARY:In-Residence and Green Social Prescribing Toolkit | Launch event
END:VEVENT
END:VCALENDAR