BEGIN:VCALENDAR
VERSION:2.0
PRODID:-//hacksw/handcal//NONSGML v1.0//EN
CALSCALE:GREGORIAN
BEGIN:VEVENT
DTSTART:20251110T090000
DTEND:20260116T170000
UID:Looking Back, Looking Forward: Hartley Library Transformations | Exhibition10/11/2025 09:00-16/01/2026 17:00
DESCRIPTION:DATES: Monday 10th November 2025 - Friday 16th January 2026

Visit the Hartley Library Level 4 Gallery and our latest exhibition 'Looking Back, Looking Forward: Hartley Library Transformations. The exhibition looks at the Hartley Library through its five distinct phases of development from pre first world war, through the Turner Sims and Gurney Dixon work of the 1930s and 1950s and on to the 1980s and the 2000 wrap around extension.  It will include a selection of items from our Archives and Special Collections, new digital content in response to the material in the archives alongside future development ideas.

There will also be a chance to engage with alumni memories of the Hartley Library, part of our Hartley History Postcard project.
URL: https://www.southamptonartshumfest.co.uk/
SUMMARY:Looking Back, Looking Forward: Hartley Library Transformations | Exhibition
END:VEVENT
END:VCALENDAR