BEGIN:VCALENDAR
VERSION:2.0
PRODID:-//hacksw/handcal//NONSGML v1.0//EN
CALSCALE:GREGORIAN
BEGIN:VEVENT
DTSTART:20251108T133000
DTEND:20251108T143000
UID:Making children fit and happy through physical exercise | Talk08/11/2025 13:30-08/11/2025 14:30
DESCRIPTION:Have you ever wondered about where 'physical education' comes from, and why it became so common in schools? 

This family-friendly talk, with photographs and drawings, will illuminate the history of physical exercise for children in France. Drawing on her research on the 1920s and 1930s, Dr Joan Tumblety, History at the University of Southampton, will explain how and why physical movement was seen by educators, medical doctors, and the government as a way of curing the physical and psychological problems of the younger generations. 

What may surprise you is the extent to which those involved wanted not only to make children fit but to make them happy, too! 

This is an opportunity to reflect on how past generations in a different country took an interest in what today we call wellbeing and mental health.  

Can you recognise your own experience in this story?
URL: https://www.southamptonartshumfest.co.uk/
SUMMARY:Making children fit and happy through physical exercise | Talk
END:VEVENT
END:VCALENDAR