BEGIN:VCALENDAR
VERSION:2.0
PRODID:-//hacksw/handcal//NONSGML v1.0//EN
CALSCALE:GREGORIAN
BEGIN:VEVENT
DTSTART:20251108T133000
DTEND:20251108T143000
UID:Leaf Thief storytime and crafts | Workshop08/11/2025 13:30-08/11/2025 14:30
DESCRIPTION:Welcome to Southampton Central Children's Library! 

Come along to share stories about autumn, read by the library team and make your own beautiful book using autumn leaves.  

This activity is suitable for all children from 4 years to 11 years and their families.  

We will be running two sessions, at 11AM and again at 1:30PM at the Southampton Central Children's Library in the children's area space. Upon arrival, check in at the entrance of the library with one of the festivals friendly student ambassadors, who will then direct visitors to the space.

Accessibility: There are accessible slopes either side of the activity space to reach the children's area. Baby Changing is available on site in the disabled toilet in the foyer, before you enter the library.

We look forward to seeing you there.

URL: https://www.southamptonartshumfest.co.uk/
SUMMARY:Leaf Thief storytime and crafts | Workshop
END:VEVENT
END:VCALENDAR