BEGIN:VCALENDAR
VERSION:2.0
PRODID:-//hacksw/handcal//NONSGML v1.0//EN
CALSCALE:GREGORIAN
BEGIN:VEVENT
DTSTART:20251108T133000
DTEND:20251108T141500
UID:Gateway to the World | Tour and art activities08/11/2025 13:30-08/11/2025 14:15
DESCRIPTION:Dive into the history of the City of Southampton at SeaCity Museum's Gateway to the World exhibition...   

You will go on a fun fact finding expedition to learn about all the people who have arrived in and left from Southampton for well over a thousand years and then spend some time making snazzy Saxon brooches and even snazzier modern-day badges to take home with you!  

Sessions are 45 minutes but you are welcome to stay longer!
URL: https://www.southamptonartshumfest.co.uk/
SUMMARY:Gateway to the World | Tour and art activities
END:VEVENT
END:VCALENDAR