BEGIN:VCALENDAR
VERSION:2.0
PRODID:-//hacksw/handcal//NONSGML v1.0//EN
CALSCALE:GREGORIAN
BEGIN:VEVENT
DTSTART:20251108T130000
DTEND:20251108T133000
UID:For People From Places: making music together | Workshop08/11/2025 13:00-08/11/2025 13:30
DESCRIPTION:Join music students and Southampton Centre for Music Education and Social Justice for a welcoming, participatory workshop where you can make music together for Uri Agnon's interactive piece, created for the Harmonies of Home: A Community Song Bank project. 

Through a short collective performance, you will explore ideas of home and freedom, engaging with rhythm, melody, and sound in a relaxed and inclusive environment. 

You will have the opportunity to collaborate with others, experiment with musical ideas, and contribute to a unique community music project. 

The workshop encourages curiosity, creativity, and shared expression, allowing participants to experience the joy of making music together. 

By the end of the session, the group will come together to perform the piece, creating a memorable and interactive musical experience that reflects the voices and perspectives of all involved. 

Bring your enthusiasm, your voice, your story-come and make music, connect with others, and explore the meaning of home and freedom through sound!


This workshop is open to everyone-no singing experience or music reading is required.
URL: https://www.southamptonartshumfest.co.uk/
SUMMARY:For People From Places: making music together | Workshop
END:VEVENT
END:VCALENDAR