BEGIN:VCALENDAR
VERSION:2.0
PRODID:-//hacksw/handcal//NONSGML v1.0//EN
CALSCALE:GREGORIAN
BEGIN:VEVENT
DTSTART:20251108T120000
DTEND:20251108T160000
UID:Music Making Sensory Space08/11/2025 12:00-08/11/2025 16:00
DESCRIPTION:Take a break from the buzz of the festival and join us in the sensory space to relax and make some music. Created by Turner Sims, City Eye, and the Southampton Centre for Music Education and Social Justice, this space is specially designed for children and young people with additional needs who might need to take some time out. Everyone is welcome to experience calming vibes, tranquil colours and gentle music making.
Saturday 8 November, 12-4pm at John Hansard Gallery
Free
URL: https://www.southamptonartshumfest.co.uk/
SUMMARY:Music Making Sensory Space
END:VEVENT
END:VCALENDAR