BEGIN:VCALENDAR
VERSION:2.0
PRODID:-//hacksw/handcal//NONSGML v1.0//EN
CALSCALE:GREGORIAN
BEGIN:VEVENT
DTSTART:20251108T113000
DTEND:20251108T113500
UID:K-Pop Society Dance Performance08/11/2025 11:30-08/11/2025 11:35
DESCRIPTION:The K-Pop Society presents a high-energy dance performance of 'THIS IS FOR' by TWICE, the 2025 Lollapalooza Music Festival headliners. This performance celebrates the song's uplifting message of confidence and self-love through powerful choreography and vibrant music, especially to "all the ladies". You can expect an exciting showcase that captures the heart of K-Pop, the shared passion that connects fans around the world. Whether you're a long-time ONCE or simply curious about K-Pop, this performance invites you to experience the creativity, positivity, and teamwork that define the genre. Come and enjoy a moment filled with rhythm, and passion. Let the energy of TWICE's 'THIS IS FOR' and our performers lift your spirits and remind you to celebrate yourself and those around you. Everyone is welcome, so join in, cheer along, and feel the joy of K-Pop come to life!
URL: https://www.southamptonartshumfest.co.uk/
SUMMARY:K-Pop Society Dance Performance
END:VEVENT
END:VCALENDAR