BEGIN:VCALENDAR
VERSION:2.0
PRODID:-//hacksw/handcal//NONSGML v1.0//EN
CALSCALE:GREGORIAN
BEGIN:VEVENT
DTSTART:20251108T111000
DTEND:20251108T120000
UID:Aurora Art | Workshop08/11/2025 11:10-08/11/2025 12:00
DESCRIPTION:Learn all about the Northern Lights/Aurora and the research the Space Environment Physics (SEP) group do in Svalbard, Norway. 

Make your very own scientifically accurate Aurora Art using the correct colours and the shape classifications from our 'Aurora Zoo' citizen science project. 

You will also learn about the plight of the Svalbard polar bears and how Aurora research can be used to learn about our climate.
URL: https://www.southamptonartshumfest.co.uk/
SUMMARY:Aurora Art | Workshop
END:VEVENT
END:VCALENDAR